BEGIN:VCALENDAR
VERSION:2.0
PRODID:SchoolNow
CALSCALE:GREGORIAN
BEGIN:VEVENT
UID:57facb02-e27d-11ec-af33-0e786fa374e3
DTSTAMP:20220602T141107Z
SUMMARY:Kindergarten Moving Up
LOCATION:Turf outside school
URL;VALUE=URI:https://www.albanyschools.org/schools/delaware/calendar/32104
 09/kindergarten-moving-up
DTSTART:20220622T170000Z
DTEND:20220622T180000Z
END:VEVENT
END:VCALENDAR
