BEGIN:VCALENDAR
VERSION:2.0
PRODID:SchoolNow
CALSCALE:GREGORIAN
BEGIN:VEVENT
UID:c662d288-e27d-11ec-9d8d-0e786fa374e3
DTSTAMP:20220613T143853Z
SUMMARY:Grade 5 Moving Up
LOCATION:Gym
URL;VALUE=URI:https://www.albanyschools.org/schools/delaware/calendar/32104
 14/grade-5-moving-up
DTSTART:20220623T140000Z
DTEND:20220623T150000Z
END:VEVENT
END:VCALENDAR
