BEGIN:VCALENDAR
VERSION:2.0
PRODID:SchoolNow
CALSCALE:GREGORIAN
BEGIN:VEVENT
UID:e250d864-1ca7-11ed-aaeb-0298f1c1417d
DTSTAMP:20220815T143810Z
SUMMARY:NYS math exams (grades 3-8)
URL;VALUE=URI:https://www.albanyschools.org/schools/delaware/calendar/32822
 85/nys-math-exams-grades-3-8
DTSTART;VALUE=DATE:20230502
DTEND;VALUE=DATE:20230504
END:VEVENT
END:VCALENDAR
