BEGIN:VCALENDAR
VERSION:2.0
PRODID:SchoolNow
CALSCALE:GREGORIAN
BEGIN:VEVENT
UID:274fa4da-248d-11ed-8fd8-0e5b92fca4e3
DTSTAMP:20220825T154658Z
SUMMARY:PTA budget meeting (virtual)
URL;VALUE=URI:https://www.albanyschools.org/schools/delaware/calendar/33044
 06/pta-budget-meeting-virtual
DTSTART:20220829T220000Z
DTEND:20220829T230000Z
END:VEVENT
END:VCALENDAR
