BEGIN:VCALENDAR
VERSION:2.0
PRODID:SchoolNow
CALSCALE:GREGORIAN
BEGIN:VEVENT
UID:f6b7ec4c-2e00-11ed-8131-0a6cfe9dee33
DTSTAMP:20220906T162839Z
SUMMARY:Clap-In
URL;VALUE=URI:https://www.albanyschools.org/schools/delaware/calendar/33512
 97/clap-in
DTSTART:20220909T124000Z
DTEND:20220909T130500Z
END:VEVENT
END:VCALENDAR
