BEGIN:VCALENDAR
VERSION:2.0
PRODID:SchoolNow
CALSCALE:GREGORIAN
BEGIN:VEVENT
UID:26f3ce26-2e01-11ed-ac08-0a6cfe9dee33
DTSTAMP:20220906T163000Z
SUMMARY:Welcome Back Celebration
LOCATION:Outside if the weather is good\; in the cafeteria if it rains
URL;VALUE=URI:https://www.albanyschools.org/schools/delaware/calendar/33513
 02/welcome-back-celebration
DTSTART:20220929T210000Z
DTEND:20220929T220000Z
END:VEVENT
END:VCALENDAR
