BEGIN:VCALENDAR
VERSION:2.0
PRODID:SchoolNow
CALSCALE:GREGORIAN
BEGIN:VEVENT
UID:3b0caaa4-2e01-11ed-a46b-0a6cfe9dee33
DTSTAMP:20220906T163033Z
SUMMARY:Open House
URL;VALUE=URI:https://www.albanyschools.org/schools/delaware/calendar/33513
 03/open-house
DTSTART:20220929T220000Z
DTEND:20220929T230000Z
END:VEVENT
END:VCALENDAR
