BEGIN:VCALENDAR
VERSION:2.0
PRODID:SchoolNow
CALSCALE:GREGORIAN
BEGIN:VEVENT
UID:6700a5d4-2e01-11ed-9f18-0a6cfe9dee33
DTSTAMP:20220915T014053Z
SUMMARY:Blaze Pizza PTA fundraiser
URL;VALUE=URI:https://www.albanyschools.org/schools/delaware/calendar/33513
 04/blaze-pizza-pta-fundraiser
DTSTART:20220930T163000Z
DTEND:20220930T173000Z
END:VEVENT
END:VCALENDAR
