BEGIN:VCALENDAR
VERSION:2.0
PRODID:SchoolNow
CALSCALE:GREGORIAN
BEGIN:VEVENT
UID:9a084b30-2e01-11ed-9996-0a6cfe9dee33
DTSTAMP:20220906T163313Z
SUMMARY:PTA meeting
LOCATION:Cafeteria
URL;VALUE=URI:https://www.albanyschools.org/schools/delaware/calendar/33513
 05/pta-meeting
DTSTART:20221012T220000Z
DTEND:20221012T230000Z
END:VEVENT
END:VCALENDAR
