BEGIN:VCALENDAR
VERSION:2.0
PRODID:SchoolNow
CALSCALE:GREGORIAN
BEGIN:VEVENT
UID:a8f01c54-2e01-11ed-b9af-0a6cfe9dee33
DTSTAMP:20220906T163412Z
SUMMARY:PTA meeting
LOCATION:Cafeteria
URL;VALUE=URI:https://www.albanyschools.org/schools/delaware/calendar/33513
 06/pta-meeting
DTSTART:20221102T220000Z
DTEND:20221102T230000Z
END:VEVENT
END:VCALENDAR
