BEGIN:VCALENDAR
VERSION:2.0
PRODID:SchoolNow
CALSCALE:GREGORIAN
BEGIN:VEVENT
UID:d97e9008-2e01-11ed-a6a4-0a6cfe9dee33
DTSTAMP:20220906T163459Z
SUMMARY:PTA meeting
LOCATION:Cafeteria
URL;VALUE=URI:https://www.albanyschools.org/schools/delaware/calendar/33513
 07/pta-meeting-clone
DTSTART:20230104T230000Z
DTEND:20230105T000000Z
END:VEVENT
END:VCALENDAR
