BEGIN:VCALENDAR
VERSION:2.0
PRODID:SchoolNow
CALSCALE:GREGORIAN
BEGIN:VEVENT
UID:1dbfca84-2e02-11ed-8a73-0a6cfe9dee33
DTSTAMP:20220906T163654Z
SUMMARY:PTA meeting
LOCATION:Cafeteria
URL;VALUE=URI:https://www.albanyschools.org/schools/delaware/calendar/33513
 11/pta-meeting-clone
DTSTART:20230503T220000Z
DTEND:20230503T230000Z
END:VEVENT
END:VCALENDAR
