BEGIN:VCALENDAR
VERSION:2.0
PRODID:SchoolNow
CALSCALE:GREGORIAN
BEGIN:VEVENT
UID:2ab12abc-2e02-11ed-b8a8-0a6cfe9dee33
DTSTAMP:20220906T163715Z
SUMMARY:PTA meeting
LOCATION:Cafeteria
URL;VALUE=URI:https://www.albanyschools.org/schools/delaware/calendar/33513
 13/pta-meeting-clone
DTSTART:20230607T220000Z
DTEND:20230607T230000Z
END:VEVENT
END:VCALENDAR
