BEGIN:VCALENDAR
VERSION:2.0
PRODID:SchoolNow
CALSCALE:GREGORIAN
BEGIN:VEVENT
UID:4197cb46-2e02-11ed-9908-0a6cfe9dee33
DTSTAMP:20220906T163807Z
SUMMARY:School Picture Day
URL;VALUE=URI:https://www.albanyschools.org/schools/delaware/calendar/33513
 14/school-picture-day
DTSTART;VALUE=DATE:20221017
DTEND;VALUE=DATE:20221018
END:VEVENT
END:VCALENDAR
