BEGIN:VCALENDAR
VERSION:2.0
PRODID:SchoolNow
CALSCALE:GREGORIAN
BEGIN:VEVENT
UID:6a3fb946-2e02-11ed-87b0-0a6cfe9dee33
DTSTAMP:20220906T163955Z
SUMMARY:PTA Trunk or Treat
LOCATION:Holy Spirit Church parking lot\, located at 57 Hurlbut St.
URL;VALUE=URI:https://www.albanyschools.org/schools/delaware/calendar/33513
 15/pta-trunk-or-treat
DTSTART:20221029T163800Z
DTEND:20221029T173800Z
END:VEVENT
END:VCALENDAR
