BEGIN:VCALENDAR
VERSION:2.0
PRODID:SchoolNow
CALSCALE:GREGORIAN
BEGIN:VEVENT
UID:a5da6b22-2e02-11ed-95d6-0a6cfe9dee33
DTSTAMP:20220906T164042Z
SUMMARY:PTA Movie Night
URL;VALUE=URI:https://www.albanyschools.org/schools/delaware/calendar/33513
 24/pta-movie-night
DTSTART:20221118T230000Z
DTEND:20221119T000000Z
END:VEVENT
END:VCALENDAR
