BEGIN:VCALENDAR
VERSION:2.0
PRODID:SchoolNow
CALSCALE:GREGORIAN
BEGIN:VEVENT
UID:b9edcd48-2e02-11ed-beb5-0a6cfe9dee33
DTSTAMP:20220906T164116Z
SUMMARY:School Picture Retake Day
URL;VALUE=URI:https://www.albanyschools.org/schools/delaware/calendar/33513
 25/school-picture-retake-day
DTSTART;VALUE=DATE:20221202
DTEND;VALUE=DATE:20221203
END:VEVENT
END:VCALENDAR
