BEGIN:VCALENDAR
VERSION:2.0
PRODID:SchoolNow
CALSCALE:GREGORIAN
BEGIN:VEVENT
UID:c9df1fea-2e02-11ed-83e6-0a6cfe9dee33
DTSTAMP:20220906T164223Z
SUMMARY:Spirit Week
URL;VALUE=URI:https://www.albanyschools.org/schools/delaware/calendar/33513
 26/spirit-week
DTSTART;VALUE=DATE:20221212
DTEND;VALUE=DATE:20221217
END:VEVENT
END:VCALENDAR
