BEGIN:VCALENDAR
VERSION:2.0
PRODID:SchoolNow
CALSCALE:GREGORIAN
BEGIN:VEVENT
UID:76e57982-2e03-11ed-98b5-0a6cfe9dee33
DTSTAMP:20220906T164633Z
SUMMARY:PTA Movie Night
URL;VALUE=URI:https://www.albanyschools.org/schools/delaware/calendar/33513
 30/pta-movie-night
DTSTART:20230519T220000Z
DTEND:20230519T230000Z
END:VEVENT
END:VCALENDAR
