BEGIN:VCALENDAR
VERSION:2.0
PRODID:SchoolNow
CALSCALE:GREGORIAN
BEGIN:VEVENT
UID:8c2d18d6-2e03-11ed-90aa-0a6cfe9dee33
DTSTAMP:20220906T164708Z
SUMMARY:Field Day
URL;VALUE=URI:https://www.albanyschools.org/schools/delaware/calendar/33513
 31/field-day
DTSTART;VALUE=DATE:20230616
DTEND;VALUE=DATE:20230617
END:VEVENT
END:VCALENDAR
