BEGIN:VCALENDAR
VERSION:2.0
PRODID:SchoolNow
CALSCALE:GREGORIAN
BEGIN:VEVENT
UID:9daf4e30-2e03-11ed-946b-0a6cfe9dee33
DTSTAMP:20220906T164738Z
SUMMARY:Field Day Rain Date
URL;VALUE=URI:https://www.albanyschools.org/schools/delaware/calendar/33513
 32/field-day-rain-date
DTSTART;VALUE=DATE:20230620
DTEND;VALUE=DATE:20230621
END:VEVENT
END:VCALENDAR
