BEGIN:VCALENDAR
VERSION:2.0
PRODID:SchoolNow
CALSCALE:GREGORIAN
BEGIN:VEVENT
UID:baf4b73c-2e03-11ed-9a19-0a6cfe9dee33
DTSTAMP:20220906T164827Z
SUMMARY:Grade 5 Moving Up
URL;VALUE=URI:https://www.albanyschools.org/schools/delaware/calendar/33513
 33/grade-5-moving-up
DTSTART:20230622T140000Z
DTEND:20230622T150000Z
END:VEVENT
END:VCALENDAR
