BEGIN:VCALENDAR
VERSION:2.0
PRODID:SchoolNow
CALSCALE:GREGORIAN
BEGIN:VEVENT
UID:cf1dd612-2e03-11ed-a003-0a6cfe9dee33
DTSTAMP:20230605T130515Z
SUMMARY:Pre-K Moving Up
URL;VALUE=URI:https://www.albanyschools.org/schools/delaware/calendar/33513
 34/pre-k-moving-up
DTSTART:20230623T150000Z
DTEND:20230623T160000Z
END:VEVENT
END:VCALENDAR
