BEGIN:VCALENDAR
VERSION:2.0
PRODID:SchoolNow
CALSCALE:GREGORIAN
BEGIN:VEVENT
UID:ddd911b0-2e05-11ed-bcc3-0e1d649d4725
DTSTAMP:20230605T130537Z
SUMMARY:Kindergarten Moving Up
URL;VALUE=URI:https://www.albanyschools.org/schools/delaware/calendar/33513
 58/kindergarten-moving-up
DTSTART:20230623T133000Z
DTEND:20230623T143000Z
END:VEVENT
END:VCALENDAR
