BEGIN:VCALENDAR
VERSION:2.0
PRODID:SchoolNow
CALSCALE:GREGORIAN
BEGIN:VEVENT
UID:4893d9d4-4fd2-11ed-991a-0a5081e61f13
DTSTAMP:20221026T185434Z
SUMMARY:Winter concert
URL;VALUE=URI:https://www.albanyschools.org/schools/delaware/calendar/35406
 92/winter-concert
DTSTART:20221219T230000Z
DTEND:20221220T000000Z
END:VEVENT
END:VCALENDAR
