BEGIN:VCALENDAR
VERSION:2.0
PRODID:SchoolNow
CALSCALE:GREGORIAN
BEGIN:VEVENT
UID:a654be4a-d7ad-11ed-816f-0a1f9f4a6f67
DTSTAMP:20230410T145439Z
SUMMARY:Spring concert
LOCATION:Myers Middle School
URL;VALUE=URI:https://www.albanyschools.org/schools/delaware/calendar/40197
 68/spring-concert
DTSTART:20230608T220000Z
DTEND:20230608T230000Z
END:VEVENT
END:VCALENDAR
