BEGIN:VCALENDAR
VERSION:2.0
PRODID:SchoolNow
CALSCALE:GREGORIAN
BEGIN:VEVENT
UID:90e19e3c-264c-11ee-9684-0a58a9feac02
DTSTAMP:20230823T165437Z
SUMMARY:FIRST DAYS OF SCHOOL!
URL;VALUE=URI:https://www.albanyschools.org/schools/delaware/calendar/45011
 47/first-day-of-school
DTSTART;VALUE=DATE:20230907
DTEND;VALUE=DATE:20230909
END:VEVENT
END:VCALENDAR
