BEGIN:VCALENDAR
VERSION:2.0
PRODID:SchoolNow
CALSCALE:GREGORIAN
BEGIN:VEVENT
UID:b52d9e70-3c41-11ee-8390-02a2a50e8e7b
DTSTAMP:20230816T143220Z
SUMMARY:ELEMENTARY MARKING PERIOD (12/1)
URL;VALUE=URI:https://www.albanyschools.org/schools/delaware/calendar/45804
 38/elementary-marking-period-12-1
DTSTART;VALUE=DATE:20231201
DTEND;VALUE=DATE:20231202
END:VEVENT
END:VCALENDAR
