BEGIN:VCALENDAR
VERSION:2.0
PRODID:SchoolNow
CALSCALE:GREGORIAN
BEGIN:VEVENT
UID:234c95a2-4352-11ee-9feb-0a58a9feac02
DTSTAMP:20230825T141827Z
SUMMARY:PTA meeting (in-person and virtual)
URL;VALUE=URI:https://www.albanyschools.org/schools/delaware/calendar/46255
 78/pta-meeting-in-person-and-virtual
DTSTART:20231213T230000Z
DTEND:20231214T000000Z
END:VEVENT
END:VCALENDAR
