BEGIN:VCALENDAR
VERSION:2.0
PRODID:SchoolNow
CALSCALE:GREGORIAN
BEGIN:VEVENT
UID:57d8f6ee-4352-11ee-91b8-0221131887f9
DTSTAMP:20230825T141903Z
SUMMARY:PTA meeting (in-person and virtual)
URL;VALUE=URI:https://www.albanyschools.org/schools/delaware/calendar/46255
 80/pta-meeting-in-person-and-virtual
DTSTART:20240409T220000Z
DTEND:20240409T230000Z
END:VEVENT
END:VCALENDAR
