BEGIN:VCALENDAR
VERSION:2.0
PRODID:SchoolNow
CALSCALE:GREGORIAN
BEGIN:VEVENT
UID:98c9cebc-4352-11ee-83dc-0a58a9feac02
DTSTAMP:20230825T142052Z
SUMMARY:PTA meeting (in-person and virtual)
URL;VALUE=URI:https://www.albanyschools.org/schools/delaware/calendar/46255
 81/pta-meeting-in-person-and-virtual-clone
DTSTART:20240605T220000Z
DTEND:20240605T230000Z
END:VEVENT
END:VCALENDAR
