BEGIN:VCALENDAR
VERSION:2.0
PRODID:SchoolNow
CALSCALE:GREGORIAN
BEGIN:VEVENT
UID:b6a068d8-4352-11ee-8660-0a58a9feac02
DTSTAMP:20230825T142142Z
SUMMARY:Trunk or Treat
URL;VALUE=URI:https://www.albanyschools.org/schools/delaware/calendar/46255
 82/trunk-or-treat
DTSTART:20231028T210000Z
DTEND:20231028T220000Z
END:VEVENT
END:VCALENDAR
