BEGIN:VCALENDAR
VERSION:2.0
PRODID:SchoolNow
CALSCALE:GREGORIAN
BEGIN:VEVENT
UID:d4a5a140-4352-11ee-8f6c-021e10b920ff
DTSTAMP:20230825T142322Z
SUMMARY:School Picture Day
URL;VALUE=URI:https://www.albanyschools.org/schools/delaware/calendar/46255
 83/school-picture-day
DTSTART;VALUE=DATE:20231013
DTEND;VALUE=DATE:20231014
END:VEVENT
END:VCALENDAR
