BEGIN:VCALENDAR
VERSION:2.0
PRODID:SchoolNow
CALSCALE:GREGORIAN
BEGIN:VEVENT
UID:1d8ab6de-4353-11ee-9f3a-0a1d9c392a51
DTSTAMP:20231109T184753Z
SUMMARY:Family Movie Night
URL;VALUE=URI:https://www.albanyschools.org/schools/delaware/calendar/46255
 84/family-movie-night
DTSTART:20231109T230000Z
DTEND:20231110T000000Z
END:VEVENT
END:VCALENDAR
