BEGIN:VCALENDAR
VERSION:2.0
PRODID:SchoolNow
CALSCALE:GREGORIAN
BEGIN:VEVENT
UID:33773328-4353-11ee-867e-0a58a9feac02
DTSTAMP:20240430T134445Z
SUMMARY:Bingo Night
URL;VALUE=URI:https://www.albanyschools.org/schools/delaware/calendar/46255
 85/family-game-night
DTSTART:20240516T213000Z
DTEND:20240516T223000Z
END:VEVENT
END:VCALENDAR
