BEGIN:VCALENDAR
VERSION:2.0
PRODID:SchoolNow
CALSCALE:GREGORIAN
BEGIN:VEVENT
UID:68703e1c-4353-11ee-881c-0221131887f9
DTSTAMP:20230825T142640Z
SUMMARY:Field Day
URL;VALUE=URI:https://www.albanyschools.org/schools/delaware/calendar/46255
 86/field-day
DTSTART;VALUE=DATE:20240614
DTEND;VALUE=DATE:20240615
END:VEVENT
END:VCALENDAR
