BEGIN:VCALENDAR
VERSION:2.0
PRODID:SchoolNow
CALSCALE:GREGORIAN
BEGIN:VEVENT
UID:926f07a2-4353-11ee-b0d5-0a58a9feac02
DTSTAMP:20230825T142751Z
SUMMARY:Field Day Rain Date
URL;VALUE=URI:https://www.albanyschools.org/schools/delaware/calendar/46255
 87/field-day-rain-date
DTSTART;VALUE=DATE:20240617
DTEND;VALUE=DATE:20240618
END:VEVENT
END:VCALENDAR
