BEGIN:VCALENDAR
VERSION:2.0
PRODID:SchoolNow
CALSCALE:GREGORIAN
BEGIN:VEVENT
UID:d15141a6-4353-11ee-9db9-0a58a9feac02
DTSTAMP:20240604T192238Z
SUMMARY:Kindergarten Moving Up
URL;VALUE=URI:https://www.albanyschools.org/schools/delaware/calendar/46255
 88/kindergarten-moving-up
DTSTART:20240626T140000Z
DTEND:20240626T150000Z
END:VEVENT
END:VCALENDAR
