BEGIN:VCALENDAR
VERSION:2.0
PRODID:SchoolNow
CALSCALE:GREGORIAN
BEGIN:VEVENT
UID:e623e458-4353-11ee-b2c5-0258612e6967
DTSTAMP:20230825T143011Z
SUMMARY:Grade 5 Moving Up
URL;VALUE=URI:https://www.albanyschools.org/schools/delaware/calendar/46255
 89/grade-5-moving-up
DTSTART:20240625T140000Z
DTEND:20240625T150000Z
END:VEVENT
END:VCALENDAR
