BEGIN:VCALENDAR
VERSION:2.0
PRODID:SchoolNow
CALSCALE:GREGORIAN
BEGIN:VEVENT
UID:fae93e88-4353-11ee-bcd0-0a58a9feac02
DTSTAMP:20230825T143046Z
SUMMARY:Pre-K Moving Up
URL;VALUE=URI:https://www.albanyschools.org/schools/delaware/calendar/46255
 90/pre-k-moving-up
DTSTART:20240625T170000Z
DTEND:20240625T180000Z
END:VEVENT
END:VCALENDAR
