BEGIN:VCALENDAR
VERSION:2.0
PRODID:SchoolNow
CALSCALE:GREGORIAN
BEGIN:VEVENT
UID:b8e6b662-5322-11ee-b597-0a58a9feac02
DTSTAMP:20230915T132334Z
SUMMARY:Special Person Take Your Child to School Day
URL;VALUE=URI:https://www.albanyschools.org/schools/delaware/calendar/47372
 13/special-person-take-your-child-to-school-day
DTSTART:20230921T122000Z
DTEND:20230921T132000Z
END:VEVENT
END:VCALENDAR
