BEGIN:VCALENDAR
VERSION:2.0
PRODID:SchoolNow
CALSCALE:GREGORIAN
BEGIN:VEVENT
UID:d2302296-6887-11ee-b55e-0a58a9feac02
DTSTAMP:20231011T224505Z
SUMMARY:Family STEM Night in Space
LOCATION:Gym
URL;VALUE=URI:https://www.albanyschools.org/schools/delaware/calendar/48560
 79/family-stem-night-in-space
DTSTART:20231012T210000Z
DTEND:20231012T230000Z
END:VEVENT
END:VCALENDAR
