BEGIN:VCALENDAR
VERSION:2.0
PRODID:SchoolNow
CALSCALE:GREGORIAN
BEGIN:VEVENT
UID:2aa34792-78b8-11ee-bc16-02b4e259c2d5
DTSTAMP:20231101T131127Z
SUMMARY:Winter concert
URL;VALUE=URI:https://www.albanyschools.org/schools/delaware/calendar/49175
 29/winter-concert
DTSTART:20231214T230000Z
DTEND:20231215T000000Z
END:VEVENT
END:VCALENDAR
