BEGIN:VCALENDAR
VERSION:2.0
PRODID:SchoolNow
CALSCALE:GREGORIAN
BEGIN:VEVENT
UID:d8a804a0-78cb-11ee-b1e7-0e09ff03c331
DTSTAMP:20231101T153220Z
SUMMARY:School picture make-up day
URL;VALUE=URI:https://www.albanyschools.org/schools/delaware/calendar/49175
 51/school-picture-make-up-day
DTSTART:20231201T163100Z
DTEND:20231201T173100Z
END:VEVENT
END:VCALENDAR
