BEGIN:VCALENDAR
VERSION:2.0
PRODID:SchoolNow
CALSCALE:GREGORIAN
BEGIN:VEVENT
UID:87b546da-78f2-11ee-81e1-0e6b082683e9
DTSTAMP:20231101T201015Z
SUMMARY:Holiday Bookfest
LOCATION:Book House\, Stuyvesant Plaza
URL;VALUE=URI:https://www.albanyschools.org/schools/delaware/calendar/49189
 73/holiday-bookfest
DTSTART:20231116T220000Z
DTEND:20231117T000000Z
END:VEVENT
END:VCALENDAR
