BEGIN:VCALENDAR
VERSION:2.0
PRODID:SchoolNow
CALSCALE:GREGORIAN
BEGIN:VEVENT
UID:29b9998e-7f30-11ee-a7f8-0aab86f10c71
DTSTAMP:20231109T184533Z
SUMMARY:What's Poppin' popcorn fundraiser
URL;VALUE=URI:https://www.albanyschools.org/schools/delaware/calendar/49371
 80/whats-poppin-popcorn-fundraiser
DTSTART;VALUE=DATE:20231106
DTEND;VALUE=DATE:20231128
END:VEVENT
END:VCALENDAR
