BEGIN:VCALENDAR
VERSION:2.0
PRODID:SchoolNow
CALSCALE:GREGORIAN
BEGIN:VEVENT
UID:4b19838c-7f30-11ee-9153-02e5365443d1
DTSTAMP:20231109T184629Z
SUMMARY:Penguin Patch Holiday Shop
URL;VALUE=URI:https://www.albanyschools.org/schools/delaware/calendar/49376
 24/penguin-patch-holiday-shop
DTSTART;VALUE=DATE:20231211
DTEND;VALUE=DATE:20231216
END:VEVENT
END:VCALENDAR
