BEGIN:VCALENDAR
VERSION:2.0
PRODID:SchoolNow
CALSCALE:GREGORIAN
BEGIN:VEVENT
UID:6ccf21bc-7f30-11ee-b640-02b8435730db
DTSTAMP:20231109T184725Z
SUMMARY:Spirit Week
URL;VALUE=URI:https://www.albanyschools.org/schools/delaware/calendar/49376
 25/spirit-week
DTSTART;VALUE=DATE:20231218
DTEND;VALUE=DATE:20231223
END:VEVENT
END:VCALENDAR
