BEGIN:VCALENDAR
VERSION:2.0
PRODID:SchoolNow
CALSCALE:GREGORIAN
BEGIN:VEVENT
UID:5764a8c0-b936-11ee-8011-0a4dc413eed9
DTSTAMP:20240122T145554Z
SUMMARY:PTA meeting
URL;VALUE=URI:https://www.albanyschools.org/schools/delaware/calendar/51933
 30/pta-meeting
DTSTART:20240207T230000Z
DTEND:20240208T000000Z
END:VEVENT
END:VCALENDAR
