BEGIN:VCALENDAR
VERSION:2.0
PRODID:SchoolNow
CALSCALE:GREGORIAN
BEGIN:VEVENT
UID:6e5de6b8-b936-11ee-98f0-0a58a9feac02
DTSTAMP:20240122T145632Z
SUMMARY:Winter Celebration
URL;VALUE=URI:https://www.albanyschools.org/schools/delaware/calendar/51933
 31/winter-celebration
DTSTART:20240215T220000Z
DTEND:20240216T000000Z
END:VEVENT
END:VCALENDAR
